BEGIN:VCALENDAR
VERSION:2.0
PRODID:-//Cosmétiques naturels à base de plantes - ECPv6.15.20//NONSGML v1.0//EN
CALSCALE:GREGORIAN
METHOD:PUBLISH
X-ORIGINAL-URL:https://lasourcedesfees-cosmetiques.fr
X-WR-CALDESC:Évènements pour Cosmétiques naturels à base de plantes
REFRESH-INTERVAL;VALUE=DURATION:PT1H
X-Robots-Tag:noindex
X-PUBLISHED-TTL:PT1H
BEGIN:VTIMEZONE
TZID:Europe/Paris
BEGIN:DAYLIGHT
TZOFFSETFROM:+0100
TZOFFSETTO:+0200
TZNAME:CEST
DTSTART:20240331T010000
END:DAYLIGHT
BEGIN:STANDARD
TZOFFSETFROM:+0200
TZOFFSETTO:+0100
TZNAME:CET
DTSTART:20241027T010000
END:STANDARD
BEGIN:DAYLIGHT
TZOFFSETFROM:+0100
TZOFFSETTO:+0200
TZNAME:CEST
DTSTART:20250330T010000
END:DAYLIGHT
BEGIN:STANDARD
TZOFFSETFROM:+0200
TZOFFSETTO:+0100
TZNAME:CET
DTSTART:20251026T010000
END:STANDARD
BEGIN:DAYLIGHT
TZOFFSETFROM:+0100
TZOFFSETTO:+0200
TZNAME:CEST
DTSTART:20260329T010000
END:DAYLIGHT
BEGIN:STANDARD
TZOFFSETFROM:+0200
TZOFFSETTO:+0100
TZNAME:CET
DTSTART:20261025T010000
END:STANDARD
END:VTIMEZONE
BEGIN:VEVENT
DTSTART;TZID=Europe/Paris:20250803T090000
DTEND;TZID=Europe/Paris:20250803T190000
DTSTAMP:20260419T175854
CREATED:20250721T091721Z
LAST-MODIFIED:20250721T091745Z
UID:2192-1754211600-1754247600@lasourcedesfees-cosmetiques.fr
SUMMARY:MARCHÉ ARTISANAL LOZART LA CHAISE DIEU
DESCRIPTION:Bienvenue au marché artisanal de la Chaise Dieu  \n25 artisans de qualité en plein centre ville vous accueillent avec leurs talents et savoir-faire. Nous serons présents toute la journée de 9h-19h dans la rue principale\, à côté de la célèbre Abbaye. \nSi vous ne pouvez pas\, nous revenons le 22 août\, pendant le festival de la Chaise Dieu\, festival de musique classique et sacrée. 
URL:https://lasourcedesfees-cosmetiques.fr/event/marche-artisanal-lozart-la-chaise-dieu/
CATEGORIES:Foires
ATTACH;FMTTYPE=image/jpeg:https://lasourcedesfees-cosmetiques.fr/wp-content/uploads/2025/07/IMG_20210808_104441-scaled-e1757925007330.jpg
END:VEVENT
END:VCALENDAR