BEGIN:VCALENDAR
VERSION:2.0
PRODID:-//Cosmétiques naturels à base de plantes - ECPv6.15.20//NONSGML v1.0//EN
CALSCALE:GREGORIAN
METHOD:PUBLISH
X-ORIGINAL-URL:https://lasourcedesfees-cosmetiques.fr
X-WR-CALDESC:Évènements pour Cosmétiques naturels à base de plantes
REFRESH-INTERVAL;VALUE=DURATION:PT1H
X-Robots-Tag:noindex
X-PUBLISHED-TTL:PT1H
BEGIN:VTIMEZONE
TZID:Europe/Paris
BEGIN:DAYLIGHT
TZOFFSETFROM:+0100
TZOFFSETTO:+0200
TZNAME:CEST
DTSTART:20230326T010000
END:DAYLIGHT
BEGIN:STANDARD
TZOFFSETFROM:+0200
TZOFFSETTO:+0100
TZNAME:CET
DTSTART:20231029T010000
END:STANDARD
BEGIN:DAYLIGHT
TZOFFSETFROM:+0100
TZOFFSETTO:+0200
TZNAME:CEST
DTSTART:20240331T010000
END:DAYLIGHT
BEGIN:STANDARD
TZOFFSETFROM:+0200
TZOFFSETTO:+0100
TZNAME:CET
DTSTART:20241027T010000
END:STANDARD
BEGIN:DAYLIGHT
TZOFFSETFROM:+0100
TZOFFSETTO:+0200
TZNAME:CEST
DTSTART:20250330T010000
END:DAYLIGHT
BEGIN:STANDARD
TZOFFSETFROM:+0200
TZOFFSETTO:+0100
TZNAME:CET
DTSTART:20251026T010000
END:STANDARD
END:VTIMEZONE
BEGIN:VEVENT
DTSTART;TZID=Europe/Paris:20241207T100000
DTEND;TZID=Europe/Paris:20241208T180000
DTSTAMP:20260421T142645
CREATED:20241111T151826Z
LAST-MODIFIED:20241111T151826Z
UID:1864-1733565600-1733680800@lasourcedesfees-cosmetiques.fr
SUMMARY:MARCHE DE NOEL CRÉATELIER TENCE
DESCRIPTION:RDV AU MARCHE DE NOEL DE L’ASSOCIATION CREATELIER LES 7 ET 8 DECEMBRE A LA FRICHE FAUGIER À TENCE 43. \nUNE SUPER AMBIANCE DANS CE LIEU CHARGE D’HISTOIRE; 10H-18H
URL:https://lasourcedesfees-cosmetiques.fr/event/marche-de-noel-createlier-tence/
LOCATION:TENCE 43\, la Scierie\, quartier de la Gare\, TENCE\, 43190
CATEGORIES:Foires
ATTACH;FMTTYPE=image/jpeg:https://lasourcedesfees-cosmetiques.fr/wp-content/uploads/2024/11/CREATELIER-2024.jpg
END:VEVENT
END:VCALENDAR