BEGIN:VCALENDAR
VERSION:2.0
PRODID:-//Cosmétiques naturels à base de plantes - ECPv6.15.20//NONSGML v1.0//EN
CALSCALE:GREGORIAN
METHOD:PUBLISH
X-WR-CALNAME:Cosmétiques naturels à base de plantes
X-ORIGINAL-URL:https://lasourcedesfees-cosmetiques.fr
X-WR-CALDESC:Évènements pour Cosmétiques naturels à base de plantes
REFRESH-INTERVAL;VALUE=DURATION:PT1H
X-Robots-Tag:noindex
X-PUBLISHED-TTL:PT1H
BEGIN:VTIMEZONE
TZID:Europe/Paris
BEGIN:DAYLIGHT
TZOFFSETFROM:+0100
TZOFFSETTO:+0200
TZNAME:CEST
DTSTART:20240331T010000
END:DAYLIGHT
BEGIN:STANDARD
TZOFFSETFROM:+0200
TZOFFSETTO:+0100
TZNAME:CET
DTSTART:20241027T010000
END:STANDARD
BEGIN:DAYLIGHT
TZOFFSETFROM:+0100
TZOFFSETTO:+0200
TZNAME:CEST
DTSTART:20250330T010000
END:DAYLIGHT
BEGIN:STANDARD
TZOFFSETFROM:+0200
TZOFFSETTO:+0100
TZNAME:CET
DTSTART:20251026T010000
END:STANDARD
BEGIN:DAYLIGHT
TZOFFSETFROM:+0100
TZOFFSETTO:+0200
TZNAME:CEST
DTSTART:20260329T010000
END:DAYLIGHT
BEGIN:STANDARD
TZOFFSETFROM:+0200
TZOFFSETTO:+0100
TZNAME:CET
DTSTART:20261025T010000
END:STANDARD
END:VTIMEZONE
BEGIN:VEVENT
DTSTART;TZID=Europe/Paris:20250802T090000
DTEND;TZID=Europe/Paris:20250802T190000
DTSTAMP:20260419T162304
CREATED:20250721T090917Z
LAST-MODIFIED:20250721T090917Z
UID:2190-1754125200-1754161200@lasourcedesfees-cosmetiques.fr
SUMMARY:MARCHÉ ARTISANAL LOZART LAVAUDIEU
DESCRIPTION:Bienvenue au marché artisanal de Lavaudieu !  \nDans un écrin de verdure entre la Sénouire et les remparts\, 25 artisans-créateurs de qualité vous accueillent avec leurs talents et savoir-faire. Nous serons présents toute la journée de 9h-19h. \n 
URL:https://lasourcedesfees-cosmetiques.fr/event/marche-artisanal-lozart-lavaudieu/
CATEGORIES:Foires
ATTACH;FMTTYPE=image/jpeg:https://lasourcedesfees-cosmetiques.fr/wp-content/uploads/2025/07/IMG_20210811_113243-scaled-e1757924967117.jpg
END:VEVENT
BEGIN:VEVENT
DTSTART;TZID=Europe/Paris:20250803T090000
DTEND;TZID=Europe/Paris:20250803T190000
DTSTAMP:20260419T162304
CREATED:20250721T091721Z
LAST-MODIFIED:20250721T091745Z
UID:2192-1754211600-1754247600@lasourcedesfees-cosmetiques.fr
SUMMARY:MARCHÉ ARTISANAL LOZART LA CHAISE DIEU
DESCRIPTION:Bienvenue au marché artisanal de la Chaise Dieu  \n25 artisans de qualité en plein centre ville vous accueillent avec leurs talents et savoir-faire. Nous serons présents toute la journée de 9h-19h dans la rue principale\, à côté de la célèbre Abbaye. \nSi vous ne pouvez pas\, nous revenons le 22 août\, pendant le festival de la Chaise Dieu\, festival de musique classique et sacrée. 
URL:https://lasourcedesfees-cosmetiques.fr/event/marche-artisanal-lozart-la-chaise-dieu/
CATEGORIES:Foires
ATTACH;FMTTYPE=image/jpeg:https://lasourcedesfees-cosmetiques.fr/wp-content/uploads/2025/07/IMG_20210808_104441-scaled-e1757925007330.jpg
END:VEVENT
BEGIN:VEVENT
DTSTART;TZID=Europe/Paris:20250805T090000
DTEND;TZID=Europe/Paris:20250805T190000
DTSTAMP:20260419T162304
CREATED:20250721T092156Z
LAST-MODIFIED:20250721T092156Z
UID:2194-1754384400-1754420400@lasourcedesfees-cosmetiques.fr
SUMMARY:MARCHÉ ARTISANAL DU PUY EN VELAY
DESCRIPTION:Bienvenue au marché artisanal du Puy en Velay !  \n27 artisans de qualité en plein centre ville vous accueillent avec leurs talents et savoir-faire. Nous serons présents toute la journée de 9h-19h sur la promenade du Breuil. \n 
URL:https://lasourcedesfees-cosmetiques.fr/event/marche-artisanal-du-puy-en-velay/
LOCATION:LE PUY EN VELAY 43\, place du Breuil\, LE PUY EN VELAY\, 43000
CATEGORIES:Foires
ATTACH;FMTTYPE=image/jpeg:https://lasourcedesfees-cosmetiques.fr/wp-content/uploads/2025/07/IMG_20210811_113234-scaled-e1757924986579.jpg
END:VEVENT
BEGIN:VEVENT
DTSTART;TZID=Europe/Paris:20250806T090000
DTEND;TZID=Europe/Paris:20250806T190000
DTSTAMP:20260419T162304
CREATED:20250721T100532Z
LAST-MODIFIED:20250721T100532Z
UID:2196-1754470800-1754506800@lasourcedesfees-cosmetiques.fr
SUMMARY:MARCHÉ ARTISANAL LOZART ST JULIEN CHAPTEUIL
DESCRIPTION:Bienvenue au marché artisanal de St Julien Chapteuil !  \n24 artisans de qualité vous accueillent avec leurs talents et savoir-faire sur la place du marché. Nous serons présents toute la journée de 9h-19h. Et vous pourrez profiter des mercredis de l’été avec ses racontines à 18h\, son concert de rock à 19h30 BACK ROAD\, et son spectacle d’échassiers à 19h \n 
URL:https://lasourcedesfees-cosmetiques.fr/event/marche-artisanal-lozart-st-julien-chapteuil/
LOCATION:Saint julien chapteuil\, L'échappée\, 43260\, France
CATEGORIES:Foires
ATTACH;FMTTYPE=image/jpeg:https://lasourcedesfees-cosmetiques.fr/wp-content/uploads/2025/07/IMG_20210811_113243-scaled-e1757924967117.jpg
END:VEVENT
BEGIN:VEVENT
DTSTART;TZID=Europe/Paris:20250807T090000
DTEND;TZID=Europe/Paris:20250807T190000
DTSTAMP:20260419T162304
CREATED:20250721T100942Z
LAST-MODIFIED:20250721T100942Z
UID:2198-1754557200-1754593200@lasourcedesfees-cosmetiques.fr
SUMMARY:MARCHÉ ARTISANAL LOZART LAMASTRE (07)
DESCRIPTION:C’est avec grand plaisir que nous vous accueillons sur notre marché de Lamastre le 7 AOUT.  Vous trouverez de l’artisanat de grande qualité\, varié\, en plein centre du village de 9h-19h
URL:https://lasourcedesfees-cosmetiques.fr/event/marche-artisanal-lozart-lamastre-07/
LOCATION:LAMASTRE 07\, LAMASTRE\, 072670
CATEGORIES:Foires
ATTACH;FMTTYPE=image/jpeg:https://lasourcedesfees-cosmetiques.fr/wp-content/uploads/2025/07/IMG_20210811_113243-scaled-e1757924967117.jpg
END:VEVENT
BEGIN:VEVENT
DTSTART;TZID=Europe/Paris:20250809T090000
DTEND;TZID=Europe/Paris:20250809T190000
DTSTAMP:20260419T162304
CREATED:20250721T101332Z
LAST-MODIFIED:20250721T101332Z
UID:2200-1754730000-1754766000@lasourcedesfees-cosmetiques.fr
SUMMARY:MARCHÉ ARTISANAL LOZART LE CHAMBON SUR LIGNON
DESCRIPTION:Bienvenue au marché d’artisans-créateurs du Chambon sur Lignon ! Nous vous attendons sur la place centrale du village avec une 30aine d’artisans. Une grande qualité au RDV \n9h-19h
URL:https://lasourcedesfees-cosmetiques.fr/event/marche-artisanal-lozart-le-chambon-sur-lignon/
LOCATION:LE CHAMBON SUR LIGNON 43\, place centrale\, LE CHAMBON SUR LIGNON\, 43400
CATEGORIES:Foires
ATTACH;FMTTYPE=image/jpeg:https://lasourcedesfees-cosmetiques.fr/wp-content/uploads/2025/07/IMG_20210811_113243-scaled-e1757924967117.jpg
END:VEVENT
BEGIN:VEVENT
DTSTART;TZID=Europe/Paris:20250810T090000
DTEND;TZID=Europe/Paris:20250810T190000
DTSTAMP:20260419T162304
CREATED:20250721T101621Z
LAST-MODIFIED:20250721T101621Z
UID:2202-1754816400-1754852400@lasourcedesfees-cosmetiques.fr
SUMMARY:MARCHÉ ARTISANAL LOZART ST BONNET LE FROID
DESCRIPTION:Bienvenue à St Bonnet le froid pour un marché artisanal de grande qualité. Nous sommes présents de 9h-19h dans le centre du village.
URL:https://lasourcedesfees-cosmetiques.fr/event/marche-artisanal-lozart-st-bonnet-le-froid/
LOCATION:ST BONNET LE FROID\, ST BONNET LE FROID\, 43290
CATEGORIES:Foires
ATTACH;FMTTYPE=image/jpeg:https://lasourcedesfees-cosmetiques.fr/wp-content/uploads/2025/07/IMG_20210808_104441-scaled-e1757925007330.jpg
END:VEVENT
BEGIN:VEVENT
DTSTART;TZID=Europe/Paris:20250811T090000
DTEND;TZID=Europe/Paris:20250811T190000
DTSTAMP:20260419T162304
CREATED:20250721T101848Z
LAST-MODIFIED:20250721T101848Z
UID:2204-1754902800-1754938800@lasourcedesfees-cosmetiques.fr
SUMMARY:MARCHÉ ARTISANAL ST AGREVE 07
DESCRIPTION:Bienvenue au marché d’artisans-créateur à st Agrève. Vous nous trouverez dans le centre village toute la journée de 9h-19h
URL:https://lasourcedesfees-cosmetiques.fr/event/marche-artisanal-st-agreve-07/
LOCATION:ST AGREVE\, ST AGREVE\, 07320
CATEGORIES:Foires
ATTACH;FMTTYPE=image/jpeg:https://lasourcedesfees-cosmetiques.fr/wp-content/uploads/2025/07/IMG_20210811_113243-scaled-e1757924967117.jpg
END:VEVENT
BEGIN:VEVENT
DTSTART;TZID=Europe/Paris:20250813T090000
DTEND;TZID=Europe/Paris:20250813T190000
DTSTAMP:20260419T162304
CREATED:20250721T102149Z
LAST-MODIFIED:20250721T102149Z
UID:2206-1755075600-1755111600@lasourcedesfees-cosmetiques.fr
SUMMARY:MARCHÉ ARTISANAL LOZART LAVOUTE CHILHAC 43
DESCRIPTION:Bienvenue au plus beau village de France 2023 ! Nous vous attendons toute la journée face à l’Allier sous les platanes de 9h-19h. 
URL:https://lasourcedesfees-cosmetiques.fr/event/marche-artisanal-lozart-lavoute-chilhac-43/
LOCATION:LAVOUTE-CHILHAC\, LAVOUTE-CHILHAC\, 43380
CATEGORIES:Foires
ATTACH;FMTTYPE=image/jpeg:https://lasourcedesfees-cosmetiques.fr/wp-content/uploads/2025/07/IMG_20210811_113243-scaled-e1757924967117.jpg
END:VEVENT
BEGIN:VEVENT
DTSTART;TZID=Europe/Paris:20250815T100000
DTEND;TZID=Europe/Paris:20250817T180000
DTSTAMP:20260419T162304
CREATED:20250721T103307Z
LAST-MODIFIED:20250721T103307Z
UID:2208-1755252000-1755453600@lasourcedesfees-cosmetiques.fr
SUMMARY:MARCHÉ ARTISANAL DE MEYMAC (19)
DESCRIPTION:Bienvenue à la foire artisanale de Meymac avec sa 100 aine d’artisans-créateurs. Les rues du village se remplissent de créateurs durant 3 jours.  \nJe vous attends au pied de l’église ! \nVendredi 15 AOÛT : 10h-19h \nSamedi 16 AOÛT: 10h-22h \nDimanche 17 AOÛT  : 9h-18h
URL:https://lasourcedesfees-cosmetiques.fr/event/marche-artisanal-de-meymac-19/
LOCATION:MEYMAC 19\, MEYMAC\, 19250
CATEGORIES:Foires
END:VEVENT
BEGIN:VEVENT
DTSTART;TZID=Europe/Paris:20250822T090000
DTEND;TZID=Europe/Paris:20250822T190000
DTSTAMP:20260419T162304
CREATED:20250721T103627Z
LAST-MODIFIED:20250721T103627Z
UID:2210-1755853200-1755889200@lasourcedesfees-cosmetiques.fr
SUMMARY:MARCHÉ ARTISANAL LOZART LA CHAISE DIEU 43
DESCRIPTION:Bienvenue à la Chaise Dieu pendant le festival du même nom toute la journée 9h-19h dans le centre village.
URL:https://lasourcedesfees-cosmetiques.fr/event/marche-artisanal-lozart-la-chaise-dieu-43/
LOCATION:LA CHAISE DIEU 43\, Centre ville\, LA CHAISE DIEU\, 43160
CATEGORIES:Foires
ATTACH;FMTTYPE=image/jpeg:https://lasourcedesfees-cosmetiques.fr/wp-content/uploads/2025/07/IMG_20210808_104441-scaled-e1757925007330.jpg
END:VEVENT
END:VCALENDAR