BEGIN:VCALENDAR
VERSION:2.0
PRODID:-//Cosmétiques naturels à base de plantes - ECPv6.15.20//NONSGML v1.0//EN
CALSCALE:GREGORIAN
METHOD:PUBLISH
X-WR-CALNAME:Cosmétiques naturels à base de plantes
X-ORIGINAL-URL:https://lasourcedesfees-cosmetiques.fr
X-WR-CALDESC:Évènements pour Cosmétiques naturels à base de plantes
REFRESH-INTERVAL;VALUE=DURATION:PT1H
X-Robots-Tag:noindex
X-PUBLISHED-TTL:PT1H
BEGIN:VTIMEZONE
TZID:Europe/Paris
BEGIN:DAYLIGHT
TZOFFSETFROM:+0100
TZOFFSETTO:+0200
TZNAME:CEST
DTSTART:20240331T010000
END:DAYLIGHT
BEGIN:STANDARD
TZOFFSETFROM:+0200
TZOFFSETTO:+0100
TZNAME:CET
DTSTART:20241027T010000
END:STANDARD
BEGIN:DAYLIGHT
TZOFFSETFROM:+0100
TZOFFSETTO:+0200
TZNAME:CEST
DTSTART:20250330T010000
END:DAYLIGHT
BEGIN:STANDARD
TZOFFSETFROM:+0200
TZOFFSETTO:+0100
TZNAME:CET
DTSTART:20251026T010000
END:STANDARD
BEGIN:DAYLIGHT
TZOFFSETFROM:+0100
TZOFFSETTO:+0200
TZNAME:CEST
DTSTART:20260329T010000
END:DAYLIGHT
BEGIN:STANDARD
TZOFFSETFROM:+0200
TZOFFSETTO:+0100
TZNAME:CET
DTSTART:20261025T010000
END:STANDARD
END:VTIMEZONE
BEGIN:VEVENT
DTSTART;TZID=Europe/Paris:20250726T090000
DTEND;TZID=Europe/Paris:20250726T190000
DTSTAMP:20260419T175204
CREATED:20250721T083546Z
LAST-MODIFIED:20250721T090957Z
UID:2181-1753520400-1753556400@lasourcedesfees-cosmetiques.fr
SUMMARY:MARCHE ARTISANAL LE CHAMBON SUR LIGNON (43)
DESCRIPTION:Bienvenue au marché artisanal du Chambon sur Lignon !  \nUne 30aines d’artisans de qualité en plein centre bourg vous accueillent avec leurs talents et savoir-faire. Nous serons présents toute la journée de 9h-19h.  
URL:https://lasourcedesfees-cosmetiques.fr/event/marche-artisanal-le-chamon-sur-lignon-43/
LOCATION:LE CHAMBON SUR LIGNON 43\, place centrale\, LE CHAMBON SUR LIGNON\, 43400
CATEGORIES:Foires
ATTACH;FMTTYPE=image/jpeg:https://lasourcedesfees-cosmetiques.fr/wp-content/uploads/2025/07/IMG_20210808_104441-scaled-e1757925007330.jpg
END:VEVENT
BEGIN:VEVENT
DTSTART;TZID=Europe/Paris:20250729T090000
DTEND;TZID=Europe/Paris:20250729T190000
DTSTAMP:20260419T175204
CREATED:20250721T085944Z
LAST-MODIFIED:20250721T090418Z
UID:2186-1753779600-1753815600@lasourcedesfees-cosmetiques.fr
SUMMARY:MARCHÉ ARTISANAL LOZART LE PUY EN VELAY
DESCRIPTION:Bienvenue au marché artisanal du Puy en Velay !  \n28 artisans de qualité en plein centre ville vous accueillent avec leurs talents et savoir-faire. Nous serons présents toute la journée de 9h-19h sur la promenade du Breuil. \nSi vous ne pouvez pas\, nous revenons le 5 août\, même endroit avec d’autres artisans\, la qualité sera toujours là! 
URL:https://lasourcedesfees-cosmetiques.fr/event/marche-artisanal-lozart-le-puy-en-velay/
LOCATION:LE PUY EN VELAY 43\, place du Breuil\, LE PUY EN VELAY\, 43000
CATEGORIES:Foires
ATTACH;FMTTYPE=image/jpeg:https://lasourcedesfees-cosmetiques.fr/wp-content/uploads/2025/07/IMG_20210811_113243-scaled-e1757924967117.jpg
END:VEVENT
END:VCALENDAR