BEGIN:VCALENDAR
VERSION:2.0
PRODID:-//Cosmétiques naturels à base de plantes - ECPv6.15.20//NONSGML v1.0//EN
CALSCALE:GREGORIAN
METHOD:PUBLISH
X-ORIGINAL-URL:https://lasourcedesfees-cosmetiques.fr
X-WR-CALDESC:Évènements pour Cosmétiques naturels à base de plantes
REFRESH-INTERVAL;VALUE=DURATION:PT1H
X-Robots-Tag:noindex
X-PUBLISHED-TTL:PT1H
BEGIN:VTIMEZONE
TZID:Europe/Paris
BEGIN:DAYLIGHT
TZOFFSETFROM:+0100
TZOFFSETTO:+0200
TZNAME:CEST
DTSTART:20240331T010000
END:DAYLIGHT
BEGIN:STANDARD
TZOFFSETFROM:+0200
TZOFFSETTO:+0100
TZNAME:CET
DTSTART:20241027T010000
END:STANDARD
BEGIN:DAYLIGHT
TZOFFSETFROM:+0100
TZOFFSETTO:+0200
TZNAME:CEST
DTSTART:20250330T010000
END:DAYLIGHT
BEGIN:STANDARD
TZOFFSETFROM:+0200
TZOFFSETTO:+0100
TZNAME:CET
DTSTART:20251026T010000
END:STANDARD
BEGIN:DAYLIGHT
TZOFFSETFROM:+0100
TZOFFSETTO:+0200
TZNAME:CEST
DTSTART:20260329T010000
END:DAYLIGHT
BEGIN:STANDARD
TZOFFSETFROM:+0200
TZOFFSETTO:+0100
TZNAME:CET
DTSTART:20261025T010000
END:STANDARD
END:VTIMEZONE
BEGIN:VEVENT
DTSTART;TZID=Europe/Paris:20250412T100000
DTEND;TZID=Europe/Paris:20250413T180000
DTSTAMP:20260419T223354
CREATED:20250430T051824Z
LAST-MODIFIED:20250430T051824Z
UID:2129-1744452000-1744567200@lasourcedesfees-cosmetiques.fr
SUMMARY:Fête des plantes de st Etienne
DESCRIPTION: 
URL:https://lasourcedesfees-cosmetiques.fr/event/fete-des-plantes-de-st-etienne-2/
LOCATION:saint Etienne\, Parc de l'Europe\, 42000⁷\, France
CATEGORIES:Foires
END:VEVENT
BEGIN:VEVENT
DTSTART;TZID=Europe/Paris:20250426T100000
DTEND;TZID=Europe/Paris:20250427T190000
DTSTAMP:20260419T223354
CREATED:20250430T051926Z
LAST-MODIFIED:20250430T051926Z
UID:2132-1745661600-1745780400@lasourcedesfees-cosmetiques.fr
SUMMARY:Fête des plantes de Randan (63)
DESCRIPTION:
URL:https://lasourcedesfees-cosmetiques.fr/event/fete-des-plantes-de-randan-63/
CATEGORIES:Foires
END:VEVENT
END:VCALENDAR