BEGIN:VCALENDAR
VERSION:2.0
PRODID:-//Cosmétiques naturels à base de plantes - ECPv6.15.20//NONSGML v1.0//EN
CALSCALE:GREGORIAN
METHOD:PUBLISH
X-ORIGINAL-URL:https://lasourcedesfees-cosmetiques.fr
X-WR-CALDESC:Évènements pour Cosmétiques naturels à base de plantes
REFRESH-INTERVAL;VALUE=DURATION:PT1H
X-Robots-Tag:noindex
X-PUBLISHED-TTL:PT1H
BEGIN:VTIMEZONE
TZID:Europe/Paris
BEGIN:DAYLIGHT
TZOFFSETFROM:+0100
TZOFFSETTO:+0200
TZNAME:CEST
DTSTART:20230326T010000
END:DAYLIGHT
BEGIN:STANDARD
TZOFFSETFROM:+0200
TZOFFSETTO:+0100
TZNAME:CET
DTSTART:20231029T010000
END:STANDARD
BEGIN:DAYLIGHT
TZOFFSETFROM:+0100
TZOFFSETTO:+0200
TZNAME:CEST
DTSTART:20240331T010000
END:DAYLIGHT
BEGIN:STANDARD
TZOFFSETFROM:+0200
TZOFFSETTO:+0100
TZNAME:CET
DTSTART:20241027T010000
END:STANDARD
BEGIN:DAYLIGHT
TZOFFSETFROM:+0100
TZOFFSETTO:+0200
TZNAME:CEST
DTSTART:20250330T010000
END:DAYLIGHT
BEGIN:STANDARD
TZOFFSETFROM:+0200
TZOFFSETTO:+0100
TZNAME:CET
DTSTART:20251026T010000
END:STANDARD
END:VTIMEZONE
BEGIN:VEVENT
DTSTART;TZID=Europe/Paris:20240801T090000
DTEND;TZID=Europe/Paris:20240801T190000
DTSTAMP:20260421T184605
CREATED:20240325T175725Z
LAST-MODIFIED:20240325T181259Z
UID:1752-1722502800-1722538800@lasourcedesfees-cosmetiques.fr
SUMMARY:MARCHÉ ARTISANAL LOZ'ART LAMASTRE 07
DESCRIPTION:RDV à LAMASTRE pour ce marché artisanal d’exception le 1er AOÛT en plein centre ville \nUne 30 aine d’artisans de tous les corps de métier. Bijoux\, cuir\, carton\, cosmétiques\, textile…  \nUn point commun\, la qualité ! 
URL:https://lasourcedesfees-cosmetiques.fr/event/marche-lozart-lamastre-07/
LOCATION:LAMASTRE 07\, LAMASTRE\, 072670
CATEGORIES:Foires
ATTACH;FMTTYPE=application/pdf:https://lasourcedesfees-cosmetiques.fr/wp-content/uploads/2024/03/RECTO-FLYERS-24-1.pdf
END:VEVENT
BEGIN:VEVENT
DTSTART;TZID=Europe/Paris:20240803T090000
DTEND;TZID=Europe/Paris:20240803T190000
DTSTAMP:20260421T184605
CREATED:20240325T181703Z
LAST-MODIFIED:20240325T181724Z
UID:1762-1722675600-1722711600@lasourcedesfees-cosmetiques.fr
SUMMARY:MARCHÉ ARTISANAL LOZ'ART AU CHAMBON SUR LIGNON
DESCRIPTION:2ème RDV au Chambon sur la place centrale pour le marché d’artisans de l’association Loz’art. \nToujours de la qualité\, nous vous attendons nombreux. 9h-19h
URL:https://lasourcedesfees-cosmetiques.fr/event/marche-artisanal-lozart-au-chambon-sur-lignon/
LOCATION:LE CHAMBON SUR LIGNON 43\, place centrale\, LE CHAMBON SUR LIGNON\, 43400
CATEGORIES:Foires
ATTACH;FMTTYPE=image/png:https://lasourcedesfees-cosmetiques.fr/wp-content/uploads/2024/03/Recto-2024.png
END:VEVENT
BEGIN:VEVENT
DTSTART;TZID=Europe/Paris:20240804T090000
DTEND;TZID=Europe/Paris:20240804T190000
DTSTAMP:20260421T184605
CREATED:20240325T182141Z
LAST-MODIFIED:20240325T182141Z
UID:1764-1722762000-1722798000@lasourcedesfees-cosmetiques.fr
SUMMARY:MARCHÉ D'ARTISANS LOZ'ART À LA CHAISE DIEU
DESCRIPTION:Et nous voici à la Chaise Dieu\, toujours en centre ville pour un très beau marché d’artisans. De la joie\, de la musique et de la belle qualité. \n9h-19h
URL:https://lasourcedesfees-cosmetiques.fr/event/marche-dartisans-lozart-a-la-chaise-dieu/
LOCATION:LA CHAISE DIEU 43\, Centre ville\, LA CHAISE DIEU\, 43160
CATEGORIES:Foires
ATTACH;FMTTYPE=image/png:https://lasourcedesfees-cosmetiques.fr/wp-content/uploads/2024/03/Recto-2024.png
END:VEVENT
BEGIN:VEVENT
DTSTART;TZID=Europe/Paris:20240806T090000
DTEND;TZID=Europe/Paris:20240806T190000
DTSTAMP:20260421T184605
CREATED:20240325T182751Z
LAST-MODIFIED:20240325T182751Z
UID:1767-1722934800-1722970800@lasourcedesfees-cosmetiques.fr
SUMMARY:MARCHÉ D'ARTISANS LOZ'ART AU PUY EN VELAY
DESCRIPTION:RDV au Puy en Velay pour un très beau marché artisanal\, le long de la place du Breuil. \nNous serons entre 20 et 30 artisans pour vous présenter nos créations.  \nMaroquinerie\, textile\, bois\, bijoux\, cosmétiques… vous attendent toute la journée de 9h à 19h
URL:https://lasourcedesfees-cosmetiques.fr/event/marche-dartisans-lozart-au-puy-en-velay/
LOCATION:LE PUY EN VELAY 43\, place du Breuil\, LE PUY EN VELAY\, 43000
CATEGORIES:Foires
ATTACH;FMTTYPE=image/png:https://lasourcedesfees-cosmetiques.fr/wp-content/uploads/2024/03/Recto-2024.png
END:VEVENT
BEGIN:VEVENT
DTSTART;TZID=Europe/Paris:20240807T090000
DTEND;TZID=Europe/Paris:20240807T190000
DTSTAMP:20260421T184605
CREATED:20240329T143235Z
LAST-MODIFIED:20240329T143453Z
UID:1771-1723021200-1723057200@lasourcedesfees-cosmetiques.fr
SUMMARY:MARCHÉ ARTISANAL LOZ'ART À ST JULIEN CHAPTEUIL
DESCRIPTION:Bienvenue à St Julien Chapteuil ! Celui-ci c’est moi qui l’organise toujours avec l’association Loz’art Auvergne. \nRdv de 9h à 19h place du marché.  \nLes mercredis de l’été à St Julien il y a des spectacles à partir de 18h. Vous pouvez passer nous voir\, écouter de la musique puis aller au RDV festif organisé par l’association AGORA et la mairie. \nOn vous attend !
URL:https://lasourcedesfees-cosmetiques.fr/event/marche-artisanal-lozart-a-st-julien-chapteuil/
LOCATION:place du marché St Julien Chapteuil\, place du marché\, St julien Chapteuil\, 43260\, France
CATEGORIES:Foires
ATTACH;FMTTYPE=image/png:https://lasourcedesfees-cosmetiques.fr/wp-content/uploads/2024/03/Recto-2024.png
END:VEVENT
BEGIN:VEVENT
DTSTART;TZID=Europe/Paris:20240810T090000
DTEND;TZID=Europe/Paris:20240810T190000
DTSTAMP:20260421T184605
CREATED:20240329T144113Z
LAST-MODIFIED:20240329T144113Z
UID:1774-1723280400-1723316400@lasourcedesfees-cosmetiques.fr
SUMMARY:MARCHÉ ARTISANAL LOZ'ART À ST BONNET LE FROID
DESCRIPTION:Encore un marché Loz’art ! RDV à St Bonnet le froid pour une belle journée avec les artisans de Haute Loire\, d’Ardèche\, de la Loire en majorité. \n Que du beau et du fait avec amour ! \nRDV 9h-19h 
URL:https://lasourcedesfees-cosmetiques.fr/event/marche-artisanal-lozart-a-st-bonnet-le-froid/
LOCATION:ST BONNET LE FROID\, ST BONNET LE FROID\, 43290
CATEGORIES:Foires
ATTACH;FMTTYPE=image/png:https://lasourcedesfees-cosmetiques.fr/wp-content/uploads/2024/03/Recto-2024.png
END:VEVENT
BEGIN:VEVENT
DTSTART;TZID=Europe/Paris:20240812T090000
DTEND;TZID=Europe/Paris:20240812T190000
DTSTAMP:20260421T184605
CREATED:20240329T144620Z
LAST-MODIFIED:20240329T145353Z
UID:1777-1723453200-1723489200@lasourcedesfees-cosmetiques.fr
SUMMARY:MARCHÉ ARTISANAL LOZ'ART A ST AGREVE
DESCRIPTION:Rdv à St Agrève pour ce marché d’artisans  haut en couleurs et en qualité ! Un peu de musique pour vous accompagner\, un beau soleil\, vous y êtes ! Le paradis !  \n9h-19h
URL:https://lasourcedesfees-cosmetiques.fr/event/marche-artisanal-de-st-agreve/
LOCATION:ST AGREVE\, ST AGREVE\, 07320
CATEGORIES:Foires
ATTACH;FMTTYPE=image/png:https://lasourcedesfees-cosmetiques.fr/wp-content/uploads/2024/03/Recto-2024.png
END:VEVENT
BEGIN:VEVENT
DTSTART;TZID=Europe/Paris:20240814T090000
DTEND;TZID=Europe/Paris:20240814T190000
DTSTAMP:20260421T184605
CREATED:20240329T145126Z
LAST-MODIFIED:20240329T145150Z
UID:1780-1723626000-1723662000@lasourcedesfees-cosmetiques.fr
SUMMARY:MARCHÉ ARTISANAL  LOZ'ART À LAVOUTE SUR LOIRE
DESCRIPTION:Lieu d’arrivée des canoës qui descendent la Loire\, nous vous attendons sur ce beau marché Loz’art\, l’avant-dernier !  \nVenez profiter de la baignade juste en dessous\, manger une petite glace délicieuse et artisanale et faire vos emplètes que vous ne trouverez pas ailleurs ! \n9h-19h
URL:https://lasourcedesfees-cosmetiques.fr/event/marche-artisanal-lozart-a-lavoute-sur-loire/
LOCATION:LAVOUTE-CHILHAC\, LAVOUTE-CHILHAC\, 43380
CATEGORIES:Foires
ATTACH;FMTTYPE=image/png:https://lasourcedesfees-cosmetiques.fr/wp-content/uploads/2024/03/Recto-2024.png
END:VEVENT
BEGIN:VEVENT
DTSTART;TZID=Europe/Paris:20240816T100000
DTEND;TZID=Europe/Paris:20240818T190000
DTSTAMP:20260421T184605
CREATED:20240329T150928Z
LAST-MODIFIED:20240329T150928Z
UID:1784-1723802400-1724007600@lasourcedesfees-cosmetiques.fr
SUMMARY:FOIRE ARTISANALE DE MEYMAC PRÈS BORDEAUX
DESCRIPTION:Un RDV incontournable des foires artisanales ! Une 100 aine d’exposants vous accueillent pendant 3 jours à Meymac en Corrèze. \nVous pouvez venir nous voir sur une large plage horaire et profiter du lac de Seichemaille pour pique-niquer ou vous baigner. \nVendredi : 10h-19h \nSamedi : 10h-22h \nDimanche : 9h30-18h
URL:https://lasourcedesfees-cosmetiques.fr/event/foire-artisanale-de-meymac-pres-bordeaux/
LOCATION:MEYMAC 19\, MEYMAC\, 19250
CATEGORIES:Foires
ATTACH;FMTTYPE=image/jpeg:https://lasourcedesfees-cosmetiques.fr/wp-content/uploads/2024/03/IMG_20210820_102034-scaled.jpg
END:VEVENT
BEGIN:VEVENT
DTSTART;TZID=Europe/Paris:20240823T090000
DTEND;TZID=Europe/Paris:20240823T190000
DTSTAMP:20260421T184605
CREATED:20240329T151550Z
LAST-MODIFIED:20240329T151550Z
UID:1788-1724403600-1724439600@lasourcedesfees-cosmetiques.fr
SUMMARY:MARCHÉ ARTISANAL LOZ'ART À LA CHAISE DIEU
DESCRIPTION:Notre dernier RDV Loz’art de l’été est à la Chaise Dieu comme chaque année !  \nUn bonne 20 aine d’exposants toujours motivés et accueillants ! Venez nous voir lors de votre visite du village et de son abbaye \n9h-19h \n 
URL:https://lasourcedesfees-cosmetiques.fr/event/marche-artisanal-lozart-a-la-chaise-dieu/
LOCATION:LA CHAISE DIEU 43\, Centre ville\, LA CHAISE DIEU\, 43160
CATEGORIES:Foires
ATTACH;FMTTYPE=image/png:https://lasourcedesfees-cosmetiques.fr/wp-content/uploads/2024/03/Recto-2024.png
END:VEVENT
BEGIN:VEVENT
DTSTART;TZID=Europe/Paris:20240831T100000
DTEND;TZID=Europe/Paris:20240901T180000
DTSTAMP:20260421T184605
CREATED:20240329T152224Z
LAST-MODIFIED:20240329T152317Z
UID:1790-1725098400-1725213600@lasourcedesfees-cosmetiques.fr
SUMMARY:FETE DES PLANTES DES JARDINS DE LA CROZE 63
DESCRIPTION:C’est la reprise des fêtes de plantes !  \nBienvenu au château de la Croze. Des plantes de toutes sortes et des artisans. Venez vous promener dans la roseraie et nous rencontrer tout le WE 
URL:https://lasourcedesfees-cosmetiques.fr/event/fete-des-plantes-des-jardins-de-la-croze-63/
LOCATION:BILLOM 63\, BILLOM\, 63160
CATEGORIES:Foires
ATTACH;FMTTYPE=image/jpeg:https://lasourcedesfees-cosmetiques.fr/wp-content/uploads/2024/03/IMG_20210320_103606-scaled.jpg
END:VEVENT
END:VCALENDAR