BEGIN:VCALENDAR
VERSION:2.0
PRODID:-//Cosmétiques naturels à base de plantes - ECPv6.15.20//NONSGML v1.0//EN
CALSCALE:GREGORIAN
METHOD:PUBLISH
X-ORIGINAL-URL:https://lasourcedesfees-cosmetiques.fr
X-WR-CALDESC:Évènements pour Cosmétiques naturels à base de plantes
REFRESH-INTERVAL;VALUE=DURATION:PT1H
X-Robots-Tag:noindex
X-PUBLISHED-TTL:PT1H
BEGIN:VTIMEZONE
TZID:Europe/Paris
BEGIN:DAYLIGHT
TZOFFSETFROM:+0100
TZOFFSETTO:+0200
TZNAME:CEST
DTSTART:20230326T010000
END:DAYLIGHT
BEGIN:STANDARD
TZOFFSETFROM:+0200
TZOFFSETTO:+0100
TZNAME:CET
DTSTART:20231029T010000
END:STANDARD
BEGIN:DAYLIGHT
TZOFFSETFROM:+0100
TZOFFSETTO:+0200
TZNAME:CEST
DTSTART:20240331T010000
END:DAYLIGHT
BEGIN:STANDARD
TZOFFSETFROM:+0200
TZOFFSETTO:+0100
TZNAME:CET
DTSTART:20241027T010000
END:STANDARD
BEGIN:DAYLIGHT
TZOFFSETFROM:+0100
TZOFFSETTO:+0200
TZNAME:CEST
DTSTART:20250330T010000
END:DAYLIGHT
BEGIN:STANDARD
TZOFFSETFROM:+0200
TZOFFSETTO:+0100
TZNAME:CET
DTSTART:20251026T010000
END:STANDARD
END:VTIMEZONE
BEGIN:VEVENT
DTSTART;TZID=Europe/Paris:20240509T090000
DTEND;TZID=Europe/Paris:20240510T180000
DTSTAMP:20260421T230011
CREATED:20240325T171352Z
LAST-MODIFIED:20240325T171352Z
UID:1733-1715245200-1715364000@lasourcedesfees-cosmetiques.fr
SUMMARY:MARCHÉ D'ARTISANS CRÉ'ATELIER
DESCRIPTION:RDV les 9 et 10 Mai pour un joli marché d’artisans à Tence(43)\, 
URL:https://lasourcedesfees-cosmetiques.fr/event/marche-dartisans-createlier/
LOCATION:TENCE 43\, la Scierie\, quartier de la Gare\, TENCE\, 43190
CATEGORIES:Foires
END:VEVENT
BEGIN:VEVENT
DTSTART;TZID=Europe/Paris:20240519T100000
DTEND;TZID=Europe/Paris:20240519T180000
DTSTAMP:20260421T230011
CREATED:20240325T173726Z
LAST-MODIFIED:20240325T173726Z
UID:1740-1716112800-1716141600@lasourcedesfees-cosmetiques.fr
SUMMARY:FOIRE BIO DE LANGEAC
DESCRIPTION:La foire Bio de Langeac vous accueille cette année le 19 Mai\, de 10h à 18h.  \nComme toujours des artisans et producteurs de qualité vous attendent. Cette année ce sera dans le centre ville du fait des travaux sur l’ile d’Amour. \nÀ très bientôt
URL:https://lasourcedesfees-cosmetiques.fr/event/foire-bio-de-langeac/
LOCATION:LANGEAC 43\, Centre ville\, LANGEAC\, 43300
CATEGORIES:Foires
END:VEVENT
END:VCALENDAR