BEGIN:VCALENDAR
VERSION:2.0
PRODID:-//Cosmétiques naturels à base de plantes - ECPv6.15.20//NONSGML v1.0//EN
CALSCALE:GREGORIAN
METHOD:PUBLISH
X-WR-CALNAME:Cosmétiques naturels à base de plantes
X-ORIGINAL-URL:https://lasourcedesfees-cosmetiques.fr
X-WR-CALDESC:Évènements pour Cosmétiques naturels à base de plantes
REFRESH-INTERVAL;VALUE=DURATION:PT1H
X-Robots-Tag:noindex
X-PUBLISHED-TTL:PT1H
BEGIN:VTIMEZONE
TZID:Europe/Paris
BEGIN:DAYLIGHT
TZOFFSETFROM:+0100
TZOFFSETTO:+0200
TZNAME:CEST
DTSTART:20230326T010000
END:DAYLIGHT
BEGIN:STANDARD
TZOFFSETFROM:+0200
TZOFFSETTO:+0100
TZNAME:CET
DTSTART:20231029T010000
END:STANDARD
BEGIN:DAYLIGHT
TZOFFSETFROM:+0100
TZOFFSETTO:+0200
TZNAME:CEST
DTSTART:20240331T010000
END:DAYLIGHT
BEGIN:STANDARD
TZOFFSETFROM:+0200
TZOFFSETTO:+0100
TZNAME:CET
DTSTART:20241027T010000
END:STANDARD
BEGIN:DAYLIGHT
TZOFFSETFROM:+0100
TZOFFSETTO:+0200
TZNAME:CEST
DTSTART:20250330T010000
END:DAYLIGHT
BEGIN:STANDARD
TZOFFSETFROM:+0200
TZOFFSETTO:+0100
TZNAME:CET
DTSTART:20251026T010000
END:STANDARD
END:VTIMEZONE
BEGIN:VEVENT
DTSTART;TZID=Europe/Paris:20240413T090000
DTEND;TZID=Europe/Paris:20240414T180000
DTSTAMP:20260422T003220
CREATED:20240325T165428Z
LAST-MODIFIED:20240325T165428Z
UID:1721-1712998800-1713117600@lasourcedesfees-cosmetiques.fr
SUMMARY:FÊTE DES PLANTES DE ST ETIENNE
DESCRIPTION:Fête des Plantes de St Etienne \nVenez passer la journée ou le WE au Parc de l’Europe à St Etienne pour un moment familial et convivial. \nVous pourrez me retrouver au stand n°29 \n  \nEt voilà le programme !
URL:https://lasourcedesfees-cosmetiques.fr/event/fete-des-plantes-de-st-etienne/
CATEGORIES:Foires
ATTACH;FMTTYPE=image/png:https://lasourcedesfees-cosmetiques.fr/wp-content/uploads/2024/03/FDP-ST-ETIENNE-2024.png
END:VEVENT
BEGIN:VEVENT
DTSTART;TZID=Europe/Paris:20240427T090000
DTEND;TZID=Europe/Paris:20240428T180000
DTSTAMP:20260422T003220
CREATED:20240325T170349Z
LAST-MODIFIED:20240325T171550Z
UID:1729-1714208400-1714327200@lasourcedesfees-cosmetiques.fr
SUMMARY:FÊTE DES PLANTES DE RANDAN
DESCRIPTION:Venez me retrouver à la fête des plantes de Randan les 27 et 28 Avril.
URL:https://lasourcedesfees-cosmetiques.fr/event/fete-des-plantes-de-randan/
LOCATION:RANDAN 63\, château de Randan\, Randan\, 63310\, France
CATEGORIES:Foires
ATTACH;FMTTYPE=image/jpeg:https://lasourcedesfees-cosmetiques.fr/wp-content/uploads/2024/03/FETE-DES-PLANTES-RANDAN-2024.jpg
END:VEVENT
END:VCALENDAR